BEGIN:VCALENDAR
VERSION:2.0
BEGIN:VEVENT
DTSTART;TZID=Europe/Stockholm:20260402T190000
DTEND;TZID=Europe/Stockholm:20260402T200000
DTSTAMP:20260423T095832
DESCRIPTION:En annorlunda kväll med inspiration från det judiska påskfirandet. Lek och allvar, sång och bibelläsning. Kom och låt dig överraskas. Fredrik Lagerström, Mikael Fasth m.fl.
SEQUENCE:0
SUMMARY:Getsemanestund med nattvard
UID:5642@lawebb.se
END:VEVENT
END:VCALENDAR