BEGIN:VCALENDAR
VERSION:2.0
BEGIN:VEVENT
DTSTART;TZID=Europe/Stockholm:20260404T100000
DTEND;TZID=Europe/Stockholm:20260404T110000
DTSTAMP:20260423T094836
DESCRIPTION:kl. 10:00-11:30
SEQUENCE:0
SUMMARY:Påskvandring med våffelservering
UID:7297@lawebb.se
END:VEVENT
END:VCALENDAR