BEGIN:VCALENDAR
VERSION:2.0
BEGIN:VEVENT
DTSTART;TZID=Europe/Stockholm:20260405T100000
DTEND;TZID=Europe/Stockholm:20260405T110000
DTSTAMP:20260423T095157
DESCRIPTION:Fredrik Lagerström, Mikael Fasth. Sång och musik av Junia och Hanna Lagerström,  m.fl.
#Kyrkkaffe#
SEQUENCE:0
SUMMARY:Påskdagsgudstjänst
UID:9433@lawebb.se
END:VEVENT
END:VCALENDAR