BEGIN:VCALENDAR
VERSION:2.0
BEGIN:VEVENT
DTSTART;TZID=Europe/Stockholm:20260407T100000
DTEND;TZID=Europe/Stockholm:20260407T110000
DTSTAMP:20260423T095604
DESCRIPTION:
SEQUENCE:0
SUMMARY:Öppna förskolan i Ankaret 👶🏻👧🏼
UID:2632@lawebb.se
END:VEVENT
END:VCALENDAR