BEGIN:VCALENDAR
VERSION:2.0
BEGIN:VEVENT
DTSTART;TZID=Europe/Stockholm:20260408T190000
DTEND;TZID=Europe/Stockholm:20260408T200000
DTSTAMP:20260423T095434
DESCRIPTION:Fredrik Lagerström
SEQUENCE:0
SUMMARY:Bibelstudie 📖 i Ankaret
UID:2743@lawebb.se
END:VEVENT
END:VCALENDAR