BEGIN:VCALENDAR
VERSION:2.0
BEGIN:VEVENT
DTSTART;TZID=Europe/Stockholm:20260412T100000
DTEND;TZID=Europe/Stockholm:20260412T110000
DTSTAMP:20260423T095357
DESCRIPTION:Ann-Marie Skölde & Rikard Lindsmyr
#Kyrkkaffe#
SEQUENCE:0
SUMMARY:Gudstjänst för alla åldrar
UID:2638@lawebb.se
END:VEVENT
END:VCALENDAR