BEGIN:VCALENDAR
VERSION:2.0
BEGIN:VEVENT
DTSTART;TZID=Europe/Stockholm:20260419T100000
DTEND;TZID=Europe/Stockholm:20260419T110000
DTSTAMP:20260423T095240
DESCRIPTION:*&#34;Omtyckta av hela folket&#34;*
Fredrik Lagerström, Elisabeth Oskarsson
Sång av Erika Bergkvist
#Kyrkkaffe#
SEQUENCE:0
SUMMARY:Gudstjänst
UID:3956@lawebb.se
END:VEVENT
END:VCALENDAR