BEGIN:VCALENDAR
VERSION:2.0
BEGIN:VEVENT
DTSTART;TZID=Europe/Stockholm:20260422T190000
DTEND;TZID=Europe/Stockholm:20260422T200000
DTSTAMP:20260423T095741
DESCRIPTION:Fredrik Lagerström
SEQUENCE:0
SUMMARY:Bibelstudie 📖 i Ankaret
UID:9445@lawebb.se
END:VEVENT
END:VCALENDAR