BEGIN:VCALENDAR
VERSION:2.0
BEGIN:VEVENT
DTSTART;TZID=Europe/Stockholm:20260426T100000
DTEND;TZID=Europe/Stockholm:20260426T110000
DTSTAMP:20260423T095418
DESCRIPTION:Stefan Zinkell och hemgrupp &#34;omsorg&#34;
#Kyrkkaffe#
SEQUENCE:0
SUMMARY:Gudstjänst
UID:7955@lawebb.se
END:VEVENT
END:VCALENDAR