BEGIN:VCALENDAR
VERSION:2.0
BEGIN:VEVENT
DTSTART;TZID=Europe/Stockholm:20260430T200000
DTEND;TZID=Europe/Stockholm:20260430T210000
DTSTAMP:20260423T094836
DESCRIPTION:Vårsånger
Vårtal av Magnus Bylander
Försäljning av grillad korv
SEQUENCE:0
SUMMARY:Valborgsfirande vid lägergården
UID:8782@lawebb.se
END:VEVENT
END:VCALENDAR