BEGIN:VCALENDAR
VERSION:2.0
BEGIN:VEVENT
DTSTART;TZID=Europe/Stockholm:20260503T100000
DTEND;TZID=Europe/Stockholm:20260503T110000
DTSTAMP:20260423T120321
DESCRIPTION:*&#34;På samma sätt förföljde man profeterna&#34;*
Fredrik Lagerström,Christina Karlén, Rolf Karlén
#Kyrkkaffe#
SEQUENCE:0
SUMMARY:Gudstjänst med nattvard
UID:2697@lawebb.se
END:VEVENT
END:VCALENDAR