BEGIN:VCALENDAR
VERSION:2.0
BEGIN:VEVENT
DTSTART;TZID=Europe/Stockholm:20260510T100000
DTEND;TZID=Europe/Stockholm:20260510T110000
DTSTAMP:20260423T120618
DESCRIPTION:Ann-Marie Skölde m.fl.
SEQUENCE:0
SUMMARY:Friluftsgudstjänst i Långeby dalar
UID:6987@lawebb.se
END:VEVENT
END:VCALENDAR