BEGIN:VCALENDAR
VERSION:2.0
BEGIN:VEVENT
DTSTART;TZID=Europe/Stockholm:20260517T100000
DTEND;TZID=Europe/Stockholm:20260517T110000
DTSTAMP:20260423T120132
DESCRIPTION:
SEQUENCE:0
SUMMARY:Gudstjänst Årskonferens SAM/SAU
UID:9276@lawebb.se
END:VEVENT
END:VCALENDAR