BEGIN:VCALENDAR
VERSION:2.0
BEGIN:VEVENT
DTSTART;TZID=Europe/Stockholm:20260519T183000
DTEND;TZID=Europe/Stockholm:20260519T193000
DTSTAMP:20260423T115650
DESCRIPTION:Ta med eget fikabröd
SEQUENCE:0
SUMMARY:Stickcafé i Ankaret
UID:3884@lawebb.se
END:VEVENT
END:VCALENDAR