BEGIN:VCALENDAR
VERSION:2.0
BEGIN:VEVENT
DTSTART;TZID=Europe/Stockholm:20260519T100000
DTEND;TZID=Europe/Stockholm:20260519T110000
DTSTAMP:20260423T115632
DESCRIPTION:
SEQUENCE:0
SUMMARY:Öppna förskolan i Ankaret 👶🏻👧🏼
UID:2744@lawebb.se
END:VEVENT
END:VCALENDAR