BEGIN:VCALENDAR
VERSION:2.0
BEGIN:VEVENT
DTSTART;TZID=Europe/Stockholm:20260520T190000
DTEND;TZID=Europe/Stockholm:20260520T200000
DTSTAMP:20260423T120320
DESCRIPTION:Fredrik Lagerström
SEQUENCE:0
SUMMARY:Bibelstudie 📖 i Ankaret
UID:8778@lawebb.se
END:VEVENT
END:VCALENDAR