BEGIN:VCALENDAR
VERSION:2.0
BEGIN:VEVENT
DTSTART;TZID=Europe/Stockholm:20260522T180000
DTEND;TZID=Europe/Stockholm:20260522T190000
DTSTAMP:20260423T120822
DESCRIPTION:Midi: åk 4-6 *18:00 - 20:00* 
Maxi: åk 7 och uppåt *20:00 - 22:00*
Schysst häng, aktiviteter, fika och gemenskap
SEQUENCE:0
SUMMARY:Snäckan - Tonår i Ankaret
UID:8664@lawebb.se
END:VEVENT
END:VCALENDAR