BEGIN:VCALENDAR
VERSION:2.0
BEGIN:VEVENT
DTSTART;TZID=Europe/Stockholm:20260524T100000
DTEND;TZID=Europe/Stockholm:20260524T110000
DTSTAMP:20260423T115632
DESCRIPTION:Magnus Bylander m.fl.
#Kyrkkaffe#
SEQUENCE:0
SUMMARY:Gudstjänst
UID:9532@lawebb.se
END:VEVENT
END:VCALENDAR