BEGIN:VCALENDAR
VERSION:2.0
BEGIN:VEVENT
DTSTART;TZID=Europe/Stockholm:20260526T100000
DTEND;TZID=Europe/Stockholm:20260526T110000
DTSTAMP:20260423T120617
DESCRIPTION:
SEQUENCE:0
SUMMARY:Öppna förskolan i Ankaret 👶🏻👧🏼
UID:7777@lawebb.se
END:VEVENT
END:VCALENDAR