BEGIN:VCALENDAR
VERSION:2.0
BEGIN:VEVENT
DTSTART;TZID=Europe/Stockholm:20260531T100000
DTEND;TZID=Europe/Stockholm:20260531T110000
DTSTAMP:20260423T115819
DESCRIPTION:*&#34;Ni ska få kraft&#34;*
Fredrik Lagerström m.fl.
#Kyrkkaffe#
SEQUENCE:0
SUMMARY:Gudstjänst
UID:4528@lawebb.se
END:VEVENT
END:VCALENDAR