BEGIN:VCALENDAR
VERSION:2.0
BEGIN:VEVENT
DTSTART;TZID=Europe/Stockholm:20260607T100000
DTEND;TZID=Europe/Stockholm:20260607T110000
DTSTAMP:20260423T135758
DESCRIPTION:Fredrik Lagerström m.fl.
#Kyrkkaffe#
SEQUENCE:0
SUMMARY:Gudstjänst med nattvard
UID:4888@lawebb.se
END:VEVENT
END:VCALENDAR