BEGIN:VCALENDAR
VERSION:2.0
BEGIN:VEVENT
DTSTART;TZID=Europe/Stockholm:20260614T170000
DTEND;TZID=Europe/Stockholm:20260614T180000
DTSTAMP:20260423T135838
DESCRIPTION:
SEQUENCE:0
SUMMARY:Gudstjänst i Fyrens församling, Båstad
UID:4892@lawebb.se
END:VEVENT
END:VCALENDAR